BEGIN:VCALENDAR
VERSION:2.0
PRODID:icalendar-ruby
CALSCALE:GREGORIAN
METHOD:PUBLISH
BEGIN:VEVENT
DTSTAMP:20260422T221950Z
UID:8-252048@lifebridgecypress.org
DTSTART:20261011T150000Z
DTEND:20261011T163000Z
CLASS:PUBLIC
CREATED:20260422T161055
DESCRIPTION:Sunday Worship
LAST-MODIFIED:20260422T161055
LOCATION:LifeBridge Church
SUMMARY:Sunday Worship
URL;VALUE=URI:https://lifebridgecypress.org/events/sunday-worship--8/2026-1
 0-11
ATTACH;FILENAME=650241261_1360171499485081_8059727054995818980_n.jpg;FMTTYP
 E=image/jpeg:https://dq5pwpg1q8ru0.cloudfront.net/2026/03/13/02/00/15/2868
 c892-401e-4c19-b333-c9bdc78df173/650241261_1360171499485081_80597270549958
 18980_n.jpg
END:VEVENT
END:VCALENDAR
